BEGIN:VCALENDAR
VERSION:2.0
PRODID:-//hacksw/handcal//NONSGML v1.0//EN
BEGIN:VEVENT
SUMMARY:IC regionale 3 J7 contre Le Palais
UID:bbe7426e-70f1-430d-ab8e-af7c1ff08a71
DTSTART:20260314T230000Z
DTEND:20260315T230000Z
LOCATION:Localisation   
CATEGORIES:Sportif
STATUS:
URL;VALUE=URI:https://www.fcl-feytiat-badminton.com/evenements/2026/03/15/ic-regionale-3-j7-contre-le-palais-2443308
END:VEVENT
END:VCALENDAR
