BEGIN:VCALENDAR
VERSION:2.0
PRODID:-//hacksw/handcal//NONSGML v1.0//EN
BEGIN:VEVENT
SUMMARY:IC 5-D3 contre Bosmie
UID:2263ce8c-8daf-462f-ba2d-fc9370914566
DTSTART:20260315T230000Z
DTEND:20260316T230000Z
LOCATION:Localisation   
CATEGORIES:Sportif
STATUS:
URL;VALUE=URI:https://www.fcl-feytiat-badminton.com/evenements/2026/03/16/ic-5-d3-contre-bosmie-2443335
END:VEVENT
END:VCALENDAR
