BEGIN:VCALENDAR
VERSION:2.0
PRODID:-//hacksw/handcal//NONSGML v1.0//EN
BEGIN:VEVENT
SUMMARY:IC 7-D5 contre Saint Louis de Gonzague
UID:0b61a3b8-a811-4e5d-b519-80414af49fa6
DTSTART:20260325T230000Z
DTEND:20260326T230000Z
LOCATION:Localisation   
CATEGORIES:Sportif
STATUS:
URL;VALUE=URI:https://www.fcl-feytiat-badminton.com/evenements/2026/03/26/ic-7-d5-contre-saint-louis-de-gonzague-2443338
END:VEVENT
END:VCALENDAR
