BEGIN:VCALENDAR
VERSION:2.0
PRODID:-//hacksw/handcal//NONSGML v1.0//EN
BEGIN:VEVENT
SUMMARY:IC regionale 3 contre Les Aces
UID:3a0fd326-3480-4ee7-a69e-66164cd6fe4e
DTSTART:20260328T230000Z
DTEND:20260329T230000Z
LOCATION:Localisation   
CATEGORIES:Sportif
STATUS:
URL;VALUE=URI:https://www.fcl-feytiat-badminton.com/evenements/2026/03/29/ic-regionale-3-contre-les-aces-2443318
END:VEVENT
END:VCALENDAR
