BEGIN:VCALENDAR
VERSION:2.0
PRODID:-//hacksw/handcal//NONSGML v1.0//EN
BEGIN:VEVENT
SUMMARY:IC 4-D2 contre Verneuil
UID:d15bbcdd-ad1f-4a1e-b954-0d9d300a4ba1
DTSTART:20260412T220000Z
DTEND:20260413T220000Z
LOCATION:Localisation   
CATEGORIES:Sportif
STATUS:
URL;VALUE=URI:https://www.fcl-feytiat-badminton.com/evenements/2026/04/13/ic-4-d2-contre-verneuil-2443331
END:VEVENT
END:VCALENDAR
