BEGIN:VCALENDAR
VERSION:2.0
PRODID:-//hacksw/handcal//NONSGML v1.0//EN
BEGIN:VEVENT
SUMMARY:Loto du club - pas de creneau enfants-adultes ce jour.
UID:1542ccce-29c1-4298-8913-fdd16c4fa54a
DTSTART:20260416T220000Z
DTEND:20260417T220000Z
LOCATION:Localisation   
CATEGORIES:Sportif
STATUS:
DESCRIPTION:<p>Le club organise son loto le 17 avril dans la salle G.
 Brassens, a Feytiat.</p>
 
 <p><strong><span style="color:#c0392b;">Il
 n'y aura pas de creneau vacances enfants-adultes ce
 jour.</span></strong></p>
URL;VALUE=URI:https://www.fcl-feytiat-badminton.com/evenements/2026/04/17/loto-du-club-pas-de-creneau-enfants-adultes-ce-jour-2414351
END:VEVENT
END:VCALENDAR
