BEGIN:VCALENDAR
VERSION:2.0
PRODID:-//hacksw/handcal//NONSGML v1.0//EN
BEGIN:VEVENT
SUMMARY:Entrainement adulte encadre
UID:ce1f88d9-2bba-43f0-9776-81e1b2398044
DTSTART:20260507T170000Z
DTEND:20260507T183000Z
LOCATION:Localisation   
CATEGORIES:Sportif
STATUS:
DESCRIPTION:<p>le jeu libre s'arretera a 19h ce jeudi 7 mai.</p>
URL;VALUE=URI:https://www.fcl-feytiat-badminton.com/evenements/2026/05/07/entrainement-adulte-encadre-2443300
END:VEVENT
END:VCALENDAR
